BEGIN:VCALENDAR
VERSION:2.0
PRODID:icalendar-ruby
CALSCALE:GREGORIAN
METHOD:PUBLISH
BEGIN:VEVENT
DTSTAMP:20260419T213904Z
UID:event-99619@stampinup.net
DTSTART;TZID=Australia/Perth:20210424T093000
DTEND;TZID=Australia/Perth:20210424T123000
CREATED:20210412T081216
DESCRIPTION:Join in a Master Class using the Hydrangea Haven Bundle (page 1
 8 Jan to June Catalogue)\nEach attendee need to have their own product bun
 dle\, therefore cost will be $30 (BYO product bundle) or $120 (included pu
 rchase of the Bundle).\nBookings are essential\, please contact me for ful
 l details\n\nEvent link: https://stampinup.net/crm/events/99619
LAST-MODIFIED:20210412T081216
LOCATION:Pree Designs Studio\, Iluka\, Western Australia
ORGANIZER;CN=Yvonne Pree:mailto:yvonne.pree@gmail.com
SUMMARY:Master Class - Hydrangea Haven
URL;VALUE=URI:https://stampinup.net/crm/events/99619
END:VEVENT
END:VCALENDAR
