BEGIN:VCALENDAR
VERSION:2.0
PRODID:icalendar-ruby
CALSCALE:GREGORIAN
METHOD:PUBLISH
BEGIN:VEVENT
DTSTAMP:20260422T164235Z
UID:event-99605@stampinup.net
DTSTART;TZID=Australia/Perth:20210428T180000
DTEND;TZID=Australia/Perth:20210428T200000
CREATED:20210412T075233
DESCRIPTION:Join in this class and make a Fancy Fold Card or learn a Card T
 echnique.\nThis is a classroom environment\, not online.  You get to chat
  with real people and relax with a cuppa while learning\, step by step how
  to create a card.\n\nThen you take home full instructions complete with s
 tep by step colour photos.\nBookings are essential.  Please contact me fo
 r more details.\n\n\nEvent link: https://stampinup.net/crm/events/99605
LAST-MODIFIED:20210412T075233
LOCATION:Pree Designs Studio\, Iluka\, Western Australia
ORGANIZER;CN=Yvonne Pree:mailto:yvonne.pree@gmail.com
SUMMARY:Fancy Fold/Technique Class
URL;VALUE=URI:https://stampinup.net/crm/events/99605
END:VEVENT
END:VCALENDAR
