BEGIN:VCALENDAR
VERSION:2.0
PRODID:icalendar-ruby
CALSCALE:GREGORIAN
METHOD:PUBLISH
BEGIN:VEVENT
DTSTAMP:20260420T043605Z
UID:event-9951@stampinup.net
DTSTART;TZID=America/New_York:20191029T183000
DTEND;TZID=America/New_York:20191029T203000
CREATED:20190917T112919
DESCRIPTION:Must sign up for event by October 10 or become a Paper Pumpkin 
 subscriber. \n\nJoin me as we put together the latest Paper Pumpkin in a 
 fun and relaxed setting. This kit will include 10 beautiful cards for Chri
 stmas. When you join you will receive an exlusive tutorial and alternative
  project that you can make using those extra bits and pieces that we alway
 s receive!! Stretch your Paper Pumpkin further with this fun event. \n\nC
 ost: $27 if you need me to purchase your kit \nPaper Gear's Subscriber: $
 5\nCurrent Paper Tribe Members: Receive this event FREE\n\nDon't delay bec
 ause seating is limited!! \n\nYou can still be part of the magic with the
  $5 deal and receive tutorial.\n\nEvent link: https://stampinup.net/crm/ev
 ents/9951
LAST-MODIFIED:20190917T112919
LOCATION:Paper Gear Crafting\, Augustus Lane Mount Holly\, NC 
ORGANIZER;CN=Christina Walker:mailto:papergears9@gmail.com
SUMMARY:Paper Pumpkin Parties
URL;VALUE=URI:https://stampinup.net/crm/events/9951
END:VEVENT
END:VCALENDAR
