BEGIN:VCALENDAR
VERSION:2.0
PRODID:icalendar-ruby
CALSCALE:GREGORIAN
METHOD:PUBLISH
BEGIN:VEVENT
DTSTAMP:20260419T232709Z
UID:event-98254@stampinup.net
DTSTART;TZID=Australia/Sydney:20210424T130000
DTEND;TZID=Australia/Sydney:20210424T160000
CREATED:20210405T235218
DESCRIPTION:Cardmaking class this month we will be using the Sand and Sea C
 ollection\n\nCome and join us for an afternoon of fun and relaxation!\n\nI
  am having in person classes again this time\, all being well with the cur
 rent Covid-19\, and holding the class in Pyrmont.\nClass will also be usin
 g Zoom for those that can't make it in person\, details emailed the day be
 fore.\n\nClass cost is $30\, and $20 for team members - contact me if you 
 would like to know more about joining my team.\n\nI send out pre cut kits\
 , but you will need your own stamps and adhesives.\nClasses to be paid by 
 direct deposit prior to kits being sent out.\n\nThis is the host code for 
 April N7B2WDY9 on orders under $250.\nClick on name of products above to
  go to Links to purchase - Host code already embedded.\n\nAnd remember On
  orders over $50 you will receive a free gift from me as well!\n\nFor more
  information and to register your place\, please rsvp or send me an email 
 or message.\nThanks\,\nFiona\n\nEvent link: https://stampinup.net/crm/even
 ts/98254
LAST-MODIFIED:20210419T201136
ORGANIZER;CN=Fiona Fernandez:mailto:Byfihandcrafts@gmail.com
SUMMARY:Online card class - Sand and Sea
URL;VALUE=URI:https://stampinup.net/crm/events/98254
END:VEVENT
END:VCALENDAR
