BEGIN:VCALENDAR
VERSION:2.0
PRODID:icalendar-ruby
CALSCALE:GREGORIAN
METHOD:PUBLISH
BEGIN:VEVENT
DTSTAMP:20260419T212746Z
UID:event-98134@stampinup.net
DTSTART;TZID=America/Los_Angeles:20210420T183000
DTEND;TZID=America/Los_Angeles:20210420T190000
CREATED:20210405T111401
DESCRIPTION:Join me on my Youtube Channel or on my Facebook Page or Group f
 or my weekly Sketch Challenge: \nYoutube: https://www.youtube.com/c/Creat
 ingwithStampingwithMelva\nFacebook Page: https://www.facebook.com/Stampin
 gWithMelvaP\nFacebook Group: https://www.facebook.com/groups/createwithst
 ampingwithmelva\n\nEvent link: https://stampinup.net/crm/events/98134
LAST-MODIFIED:20210816T121522
ORGANIZER;CN=Melva Peters:mailto:stampinwithmelva@gmail.com
SUMMARY:Sketch Challenge
URL;VALUE=URI:https://stampinup.net/crm/events/98134
END:VEVENT
END:VCALENDAR
