BEGIN:VCALENDAR
VERSION:2.0
PRODID:icalendar-ruby
CALSCALE:GREGORIAN
METHOD:PUBLISH
BEGIN:VEVENT
DTSTAMP:20260421T100029Z
UID:event-98128@stampinup.net
DTSTART;VALUE=DATE:20210503
DTEND;VALUE=DATE:20210503
CREATED:20210405T102346
DESCRIPTION:Today is the last day to order from the 2020-2021 Annual Catalo
 g!\nDon't miss out on retiring favorites and Order Today\n\nEvent link: ht
 tps://stampinup.net/crm/events/98128
LAST-MODIFIED:20210405T102346
LOCATION:www.stampwithlisabrown.stampinup.net
ORGANIZER;CN=Lisa Brown:mailto:lbrown140@gmail.com
SUMMARY:Last Day for 2020-2021 Annual Catalog
URL;VALUE=URI:https://stampinup.net/crm/events/98128
END:VEVENT
END:VCALENDAR
