BEGIN:VCALENDAR
VERSION:2.0
PRODID:icalendar-ruby
CALSCALE:GREGORIAN
METHOD:PUBLISH
BEGIN:VEVENT
DTSTAMP:20260422T223241Z
UID:event-98106@stampinup.net
DTSTART;TZID=America/New_York:20210925T100000
DTEND;TZID=America/New_York:20210925T160000
CREATED:20210405T072305
DESCRIPTION:For more information:  https://www.facebook.com/events/2536458
 49736221\n\nEvent link: https://stampinup.net/crm/events/98106
LAST-MODIFIED:20210405T072305
LOCATION:Hope Center Indy\, 11850 Brookville Rd\, Indianapolis\, IN 46239
ORGANIZER;CN=Cheryl Piotrowski:mailto:handstampedbycheryl@gmail.com
SUMMARY:Gather Hope Market
URL;VALUE=URI:https://stampinup.net/crm/events/98106
END:VEVENT
END:VCALENDAR
