BEGIN:VCALENDAR
VERSION:2.0
PRODID:icalendar-ruby
CALSCALE:GREGORIAN
METHOD:PUBLISH
BEGIN:VEVENT
DTSTAMP:20260421T131815Z
UID:event-9732@stampinup.net
DTSTART;TZID=Australia/Perth:20191003T160000
DTEND;TZID=Australia/Perth:20191006T140000
CREATED:20190917T054313
DESCRIPTION:Now fully booked\na wonderful weekend in Dwellingup  \n\nEvent
  link: https://stampinup.net/crm/events/9732
LAST-MODIFIED:20190917T054313
ORGANIZER;CN=Odette Kermode:mailto:odette@aokscrapbooks.com
SUMMARY:AOK Scrap and Stamp Camp
URL;VALUE=URI:https://stampinup.net/crm/events/9732
END:VEVENT
END:VCALENDAR
