BEGIN:VCALENDAR
VERSION:2.0
PRODID:icalendar-ruby
CALSCALE:GREGORIAN
METHOD:PUBLISH
BEGIN:VEVENT
DTSTAMP:20260423T231340Z
UID:event-97283@stampinup.net
DTSTART;TZID=America/Denver:20210508T130000
DTEND;TZID=America/Denver:20210508T160000
CREATED:20210330T170317
DESCRIPTION:Drop in to pick up a 2021-22 Stampin' Up! catalog\, craft a fre
 e make &amp\; take project and shop my BOGO sale! Freebies and Fun! Bring 
 a friend and visit!\n\n\n\n \n\nEvent link: https://stampinup.net/crm/eve
 nts/97283
LAST-MODIFIED:20210401T160351
LOCATION:Creative Juice By Loni\, 195 N 200 E\, Spanish Fork\, UT 84660
ORGANIZER;CN=Loni Spendlove:mailto:lonispendlove@gmail.com
SUMMARY:New Catalog Reception
URL;VALUE=URI:https://stampinup.net/crm/events/97283
END:VEVENT
END:VCALENDAR
