BEGIN:VCALENDAR
VERSION:2.0
PRODID:icalendar-ruby
CALSCALE:GREGORIAN
METHOD:PUBLISH
BEGIN:VEVENT
DTSTAMP:20260419T194158Z
UID:event-97267@stampinup.net
DTSTART;TZID=America/New_York:20210419T103000
DTEND;TZID=America/New_York:20210419T120000
CREATED:20210330T144730
DESCRIPTION:\n\nEvent link: https://stampinup.net/crm/events/97267
LAST-MODIFIED:20220404T155204
ORGANIZER;CN=Terry Dell'Amico:mailto:teelee9@verizon.net
SUMMARY:Beginners Card Class
URL;VALUE=URI:https://stampinup.net/crm/events/97267
RRULE:FREQ=MONTHLY;BYDAY=3MO
END:VEVENT
END:VCALENDAR
