BEGIN:VCALENDAR
VERSION:2.0
PRODID:icalendar-ruby
CALSCALE:GREGORIAN
METHOD:PUBLISH
BEGIN:VEVENT
DTSTAMP:20260423T033722Z
UID:event-97265@stampinup.net
DTSTART;TZID=America/Los_Angeles:20210414T180000
DTEND;TZID=America/Los_Angeles:20210414T210000
CREATED:20210330T142456
DESCRIPTION:Stampin' Up! event @home!\n\nEvent link: https://stampinup.net/
 crm/events/97265
LAST-MODIFIED:20210330T142456
LOCATION:My Studio
ORGANIZER;CN=Laurie Servis:mailto:laurie@scrapsbysissy.com
SUMMARY:OnTour@Home
URL;VALUE=URI:https://stampinup.net/crm/events/97265
END:VEVENT
END:VCALENDAR
