BEGIN:VCALENDAR
VERSION:2.0
PRODID:icalendar-ruby
CALSCALE:GREGORIAN
METHOD:PUBLISH
BEGIN:VEVENT
DTSTAMP:20260422T192509Z
UID:event-97263@stampinup.net
DTSTART;TZID=America/Los_Angeles:20210518T060000
DTEND;TZID=America/Los_Angeles:20210524T235500
CREATED:20210330T141959
DESCRIPTION:I will be out of the office on the Incentive Trip.\n\nEvent lin
 k: https://stampinup.net/crm/events/97263
LAST-MODIFIED:20210330T141959
LOCATION:Maui\, Hawaii
ORGANIZER;CN=Laurie Servis:mailto:laurie@scrapsbysissy.com
SUMMARY:Incentive Trip
URL;VALUE=URI:https://stampinup.net/crm/events/97263
END:VEVENT
END:VCALENDAR
