BEGIN:VCALENDAR
VERSION:2.0
PRODID:icalendar-ruby
CALSCALE:GREGORIAN
METHOD:PUBLISH
BEGIN:VEVENT
DTSTAMP:20260421T004439Z
UID:event-96902@stampinup.net
DTSTART;TZID=Australia/Sydney:20220917T130000
DTEND;TZID=Australia/Sydney:20220917T160000
CREATED:20210328T043247
DESCRIPTION:Perfect for novice and experienced paper crafters wanting to ex
 perience a variety of designs\, techniques and great Stampin’ Up! produc
 ts. More details are available here.\n\n$40 - all supplies and afternoon t
 ea included. \n\n\nEvent link: https://stampinup.net/crm/events/96902
LAST-MODIFIED:20250629T200903
LOCATION:Nancy's Craft Room\, 1/1B Westbourne Road\, Kensington VIC 3031
ORGANIZER;CN=Nancy Hoetker:mailto:nhoetker@mac.com
SUMMARY:Monthly Medley Card Class
URL;VALUE=URI:https://stampinup.net/crm/events/96902
END:VEVENT
END:VCALENDAR
