BEGIN:VCALENDAR
VERSION:2.0
PRODID:icalendar-ruby
CALSCALE:GREGORIAN
METHOD:PUBLISH
BEGIN:VEVENT
DTSTAMP:20260420T031125Z
UID:event-96789@stampinup.net
DTSTART;TZID=America/Los_Angeles:20210430T190000
DTEND;TZID=America/Los_Angeles:20210430T210000
CREATED:20210326T170452
DESCRIPTION:We will create 4 fun cards using the Playful Alphabet Dies. The
  class will take place on a Zoom call April 30th at 7 pm PST.\nThere are t
 hree options for purchasing this class:\n\n1- Tutorial only - $20 ( will b
 e sent via email)\n\n2- Tutorial\, Zoom Class\, cardstock to make 4 cards 
 and a goody bag (A pack of Adhesive Sheets\, a pack of Matte Black Dots\, 
 and the Playful Pets Trim Combo Pack) - $48\, includes postage directly to
  you\n\n3- Tutorial\, Zoom Class\, cardstock to make 4 cards\, a goody bag
  (A pack of Adhesive Sheets\, a pack of Matte Black Dots\, and the Playful
  Pets Trim Combo Pack) \nand the Playful Alphabet Dies (no shipping or ta
 xes on the dies)- $94\, includes postage directly to you.\n\nContact me (l
 eahdixon41@gmail.com) to register now.\n\nFor option 2 or 3 you must RSVP 
 prior to April 6th and send e-transfer to the above email address.\nPlease
  note you will need your own adhesives – these can be added to your orde
 r if you would like.\n\nEvent link: https://stampinup.net/crm/events/96789
LAST-MODIFIED:20210326T170452
LOCATION:Zoom\, From the Comfort of Your Home
ORGANIZER;CN=Leah Dixon:mailto:leahdixon41@gmail.com
SUMMARY:Playful Alphabet Class
URL;VALUE=URI:https://stampinup.net/crm/events/96789
END:VEVENT
END:VCALENDAR
