BEGIN:VCALENDAR
VERSION:2.0
PRODID:icalendar-ruby
CALSCALE:GREGORIAN
METHOD:PUBLISH
BEGIN:VEVENT
DTSTAMP:20260425T194047Z
UID:event-96755@stampinup.net
DTSTART;TZID=America/Chicago:20210420T180000
DTEND;TZID=America/Chicago:20210420T210000
CREATED:20210325T225149
DESCRIPTION:Participating in our OnStage at Home mini convention. \n\nEven
 t link: https://stampinup.net/crm/events/96755
LAST-MODIFIED:20210325T225149
ORGANIZER;CN=Sandy McManus:mailto:needsaribbon@gmail.com
SUMMARY:Stampin' Up! Convention
URL;VALUE=URI:https://stampinup.net/crm/events/96755
END:VEVENT
END:VCALENDAR
