BEGIN:VCALENDAR
VERSION:2.0
PRODID:icalendar-ruby
CALSCALE:GREGORIAN
METHOD:PUBLISH
BEGIN:VEVENT
DTSTAMP:20260423T153143Z
UID:event-96334@stampinup.net
DTSTART;TZID=Europe/London:20210411T100000
DTEND;TZID=Europe/London:20210411T120000
CREATED:20210322T065457
DESCRIPTION:A lovely way to spend your Sunday morning making four beautiful
  cards from scratch in the comfort of your own home. Suitable for all leve
 ls of crafter\, you will just need your basic card making equipment plus a
  few sentiments and inks to customise your cards. In your class pack you w
 ill get more than enough card\, paper\, die cuts and embellishments to mak
 e the cards together with full written instructions. You can make the card
 s on your own or join us on Zoom on Sunday 11th April from 10am to craft a
 long with me. The class will be up to 2 hours and costs £12.00. To book o
 r for more details just click the link. Closing date for booking is 4th Ap
 ril.\n\nEvent link: https://stampinup.net/crm/events/96334
LAST-MODIFIED:20210405T072125
LOCATION:On Line\, At your house!
ORGANIZER;CN=Linda Ellis:mailto:linda@strawberry.me.uk
SUMMARY:Sunday Stampin'
URL;VALUE=URI:https://stampinup.net/crm/events/96334
END:VEVENT
END:VCALENDAR
