BEGIN:VCALENDAR
VERSION:2.0
PRODID:icalendar-ruby
CALSCALE:GREGORIAN
METHOD:PUBLISH
BEGIN:VEVENT
DTSTAMP:20260420T182428Z
UID:event-96102@stampinup.net
DTSTART;TZID=America/Denver:20210409T080000
DTEND;TZID=America/Denver:20210409T230000
CREATED:20210319T171109
DESCRIPTION:Sign up today to get your Paper Pumpkin Kit!\nSign up here!\n\n
 Event link: https://stampinup.net/crm/events/96102
LAST-MODIFIED:20210319T171109
ORGANIZER;CN=Karina Chin:mailto:kchin2@telus.net
SUMMARY:Last Day to order Paper Pumpkin
URL;VALUE=URI:https://stampinup.net/crm/events/96102
END:VEVENT
END:VCALENDAR
