BEGIN:VCALENDAR
VERSION:2.0
PRODID:icalendar-ruby
CALSCALE:GREGORIAN
METHOD:PUBLISH
BEGIN:VEVENT
DTSTAMP:20260421T152751Z
UID:event-95989@stampinup.net
DTSTART;TZID=America/New_York:20210508T090000
DTEND;TZID=America/New_York:20210508T120000
CREATED:20210319T054256
DESCRIPTION:New Annual Catalog Open House\nOpt to do a porch pick up or com
 e in and do make n takes and see the new products. A porch pick up will co
 nsist of a goodie bag with your new catalog and some samples. If you come 
 inside you will create your own samples and see the new products. Please R
 SVP and let me know if you will want a porch bag or if you are coming insi
 de.\n\nEvent link: https://stampinup.net/crm/events/95989
LAST-MODIFIED:20210507T173306
LOCATION:Robyn's Roost\, 3025 Vega Ave\, Mayer
ORGANIZER;CN=Robyn Rasset:mailto:rrasset@frontier.com
SUMMARY:Open House OR Porch Pick Up
URL;VALUE=URI:https://stampinup.net/crm/events/95989
END:VEVENT
END:VCALENDAR
