BEGIN:VCALENDAR
VERSION:2.0
PRODID:icalendar-ruby
CALSCALE:GREGORIAN
METHOD:PUBLISH
BEGIN:VEVENT
DTSTAMP:20260425T181432Z
UID:event-95988@stampinup.net
DTSTART;TZID=America/New_York:20210721T120000
DTEND;TZID=America/New_York:20210725T190000
CREATED:20210319T053651
DESCRIPTION:\n\nEvent link: https://stampinup.net/crm/events/95988
LAST-MODIFIED:20210319T053651
LOCATION:Howard Lake\, Fair Grounds\, Building 4
ORGANIZER;CN=Robyn Rasset:mailto:rrasset@frontier.com
SUMMARY:Wright County Fair
URL;VALUE=URI:https://stampinup.net/crm/events/95988
END:VEVENT
END:VCALENDAR
