BEGIN:VCALENDAR
VERSION:2.0
PRODID:icalendar-ruby
CALSCALE:GREGORIAN
METHOD:PUBLISH
BEGIN:VEVENT
DTSTAMP:20260420T020726Z
UID:event-95987@stampinup.net
DTSTART;TZID=America/New_York:20210522T090000
DTEND;TZID=America/New_York:20210522T140000
CREATED:20210319T053511
DESCRIPTION:Annual Women's Expo - fun event to attend with girlfriends. Sto
 p by and pick up some greeting cards\, register for a class\, get a catalo
 g and see some new products.\n\nEvent link: https://stampinup.net/crm/even
 ts/95987
LAST-MODIFIED:20210319T053511
LOCATION:Winsted\, MN\, Blue Note Ballroom
ORGANIZER;CN=Robyn Rasset:mailto:rrasset@frontier.com
SUMMARY:Winsted Women's Expo
URL;VALUE=URI:https://stampinup.net/crm/events/95987
END:VEVENT
END:VCALENDAR
