BEGIN:VCALENDAR
VERSION:2.0
PRODID:icalendar-ruby
CALSCALE:GREGORIAN
METHOD:PUBLISH
BEGIN:VEVENT
DTSTAMP:20260421T231340Z
UID:event-95525@stampinup.net
DTSTART;TZID=America/Chicago:20210525T173000
DTEND;TZID=America/Chicago:20210525T200000
CREATED:20210316T093155
DESCRIPTION:We will make 5 beautiful cards using the Vine Design stamp set\
 , Flowering Vine Dies and Stitched With Whimsy Dies. There are 2 options a
 nd they will be available for porch pickup or mailed directly to you. (You
  will need a die cutting and embossing machine\, acrylic blocks\, sponges\
 , ink pads and adhesives to complete the projects.) \n\nIf you would like
  to work on this stamp camp at my house\, the following times will be open
  with limited seating:\nTuesday\, May 25\, 2:30 - 5:00 pm\nTuesday\, May 2
 5\, 5:30 - 8:00 pm\nMasks will be required inside the house. Bring your st
 amps\, dies\, adhesives and Basic Tool Kit.\n\nOption A - Price: $84.75 p
 lus shipping and tax\n• 156266 Vine Design Bundle\n• 155314 Stitched W
 ith Whimsy Dies\n• Supplies and instructions for 5 cards\n(The cost of o
 ption A is the cost of the products listed above and the class itself is f
 ree. If you already have some of these products\, you may substitute other
  products of equal or greater value to get the class free.)\n \nOption B 
 - class only\nIf you already have the Stamps and Dies or are borrowing the
 m from a friend:\nPrice $18.50 if mailed to you.\nPrice $15.00 if picked u
 p from my porch.\nThis option includes:\n• Supplies and instructions for
  5 cards\n \n \n\nEvent link: https://stampinup.net/crm/events/95525
LAST-MODIFIED:20210317T113148
ORGANIZER;CN=Susan Miller:mailto:STAMPIN@DREAMLAKEDESIGN.COM
SUMMARY:Vine Design Stamp Camp 2
URL;VALUE=URI:https://stampinup.net/crm/events/95525
END:VEVENT
END:VCALENDAR
