BEGIN:VCALENDAR
VERSION:2.0
PRODID:icalendar-ruby
CALSCALE:GREGORIAN
METHOD:PUBLISH
BEGIN:VEVENT
DTSTAMP:20260421T032633Z
UID:event-94997@stampinup.net
DTSTART;TZID=America/Chicago:20210511T173000
DTEND;TZID=America/Chicago:20210511T200000
CREATED:20210311T161620
DESCRIPTION:We will make 4 beautiful cards using the Treasured Medallion st
 amp set and Treasured Tags Pick A Punch. There are 2 options and they will
  be available for porch pickup or mailed directly to you. (You will not ne
 ed a die cutting and embossing machine for this class. You will need acryl
 ic blocks\, a background stamp\, sponges\, Blending Brushes\, ink pads and
  adhesives to complete the projects. A Stamparatus would also be helpful.)
  \n\nIf you would like to work on this stamp camp at my house\, the follo
 wing times will be open with limited seating:\nTuesday\, May 11\, 2:30 - 5
 :00 pm\nTuesday\, May 11\, 5:30 - 8:00 pm\nMasks will be required inside t
 he house. Bring your stamps\, punch\, blending brushes\, adhesives and Bas
 ic Tool Kit.\n\nOption A - Price: $62.50 plus shipping and tax\n• 156237
  Treasured Medallion Bundle\n• 153611 Blending Brushes\n• 109129 Gold 
 Emboss Powder\n• 109130 Clear Emboss Powder\n• Supplies and instructio
 ns for 4 cards\n(The cost of option A is the cost of the products listed a
 bove and the class itself is free. If you already have some of these produ
 cts\, you may substitute other products of equal or greater value to get t
 he class free.)\n \nOption B - class only\nIf you already have the Stamps
  and Punches or are borrowing them from a friend:\nPrice $15.75 if mailed 
 to you.\nPrice $12.25 if picked up from my porch.\nThis option includes:\n
 • Supplies and instructions for 4 cards\n \n \n\nEvent link: https://s
 tampinup.net/crm/events/94997
LAST-MODIFIED:20210311T184033
ORGANIZER;CN=Susan Miller:mailto:STAMPIN@DREAMLAKEDESIGN.COM
SUMMARY:Treasured Medallion Stamp Camp 2
URL;VALUE=URI:https://stampinup.net/crm/events/94997
END:VEVENT
END:VCALENDAR
