BEGIN:VCALENDAR
VERSION:2.0
PRODID:icalendar-ruby
CALSCALE:GREGORIAN
METHOD:PUBLISH
BEGIN:VEVENT
DTSTAMP:20260419T192016Z
UID:event-94918@stampinup.net
DTSTART;TZID=America/New_York:20210501T100000
DTEND;TZID=America/New_York:20210501T130000
CREATED:20210311T070237
DESCRIPTION:***Sign Up and Payment due April 10***\nWe will make 5 projects
  using items from the Sand &amp\; Sea Suite\, 4 cards and 1 Home Decor pie
 ce.  (You will need to purchase your own 5 x 7 frame)\nInk colors needed:
  Sahara Sand\, Seaside Spray\, Flirty Flamingo\, So Saffron\n\nBasic Class
  (In person only or if you already have the Bundle and Embossing Folder) $
 25-Supplies to make projects\n\nSilver $75 (In person or Zoom)-Includes Fr
 iends Are Like Seashells Bundle and Seashells 3D Embossing Folder plus sup
 plies to make projects\n\nGold $85: Includes Bundle\, Embossing folder\, 
 Sand &amp\; Sea Designer Series Paper plus supplies to make projects\n\nPl
 atinum I Want It All $100:  Includes Sand &amp\; Sea Suite plus supplies
  to make projects\n\nAdd Ons:\nShipping $8\nInk spots $2 per color\n\n\n 
 \n\nEvent link: https://stampinup.net/crm/events/94918
LAST-MODIFIED:20210311T070943
LOCATION:My Home & Zoom\, 718 Harrell Mill Rd
ORGANIZER;CN=Nina McMillan:mailto:ninassouthernaccents@gmail.com
SUMMARY:Sand & Sea Class
URL;VALUE=URI:https://stampinup.net/crm/events/94918
END:VEVENT
END:VCALENDAR
