BEGIN:VCALENDAR
VERSION:2.0
PRODID:icalendar-ruby
CALSCALE:GREGORIAN
METHOD:PUBLISH
BEGIN:VEVENT
DTSTAMP:20260421T122204Z
UID:event-94598@stampinup.net
DTSTART;TZID=America/New_York:20210408T190000
DTEND;TZID=America/New_York:20210408T203000
CREATED:20210308T202829
DESCRIPTION:\n\nEvent link: https://stampinup.net/crm/events/94598
LAST-MODIFIED:20210308T202829
ORGANIZER;CN=Kim Vogel:mailto:kim@kimsbasementbunch.com
SUMMARY:Facebook Live
URL;VALUE=URI:https://stampinup.net/crm/events/94598
END:VEVENT
END:VCALENDAR
