BEGIN:VCALENDAR
VERSION:2.0
PRODID:icalendar-ruby
CALSCALE:GREGORIAN
METHOD:PUBLISH
BEGIN:VEVENT
DTSTAMP:20260419T232813Z
UID:event-93185@stampinup.net
DTSTART;TZID=Australia/Sydney:20210327T130000
DTEND;TZID=Australia/Sydney:20210327T160000
CREATED:20210228T152820
DESCRIPTION:Cardmaking class this month we will be using the Garage Gears D
 ies and Geared Up Garage Stamp Set.\n\nCome and join us for an afternoon o
 f fun and relaxation!\n\nClass is held using Zoom\, details emailed the da
 y before. I am aiming at having in person classes again\, but with the cur
 rent Covid-19 cases around will stay with Online again this month.\n\nClas
 s cost is $30 \, and $20 for team members.\n\nI send out pre cut kits\, bu
 t you will need your own stamps and adhesives.\nClasses to be paid by dire
 ct deposit prior to kits being sent out.\n\nThis is the host code for Marc
 h 4XY927CN on orders under $250.\nClick on name of products above to go 
 to Links to purchase - Host code already embedded.\n\nAnd remember On ord
 ers over $50 you will receive a free gift from me as well!\n\nFor more inf
 ormation and to register your place\, please rsvp or send me an email or m
 essage.\nThanks\,\nFiona\n\nEvent link: https://stampinup.net/crm/events/9
 3185
LAST-MODIFIED:20210316T214923
ORGANIZER;CN=Fiona Fernandez:mailto:Byfihandcrafts@gmail.com
SUMMARY:Online card class - Garage Gears
URL;VALUE=URI:https://stampinup.net/crm/events/93185
END:VEVENT
END:VCALENDAR
