BEGIN:VCALENDAR
VERSION:2.0
PRODID:icalendar-ruby
CALSCALE:GREGORIAN
METHOD:PUBLISH
BEGIN:VEVENT
DTSTAMP:20260419T173455Z
UID:event-92338@stampinup.net
DTSTART;TZID=America/New_York:20210313T100000
DTEND;TZID=America/New_York:20210313T123000
CREATED:20210222T215834
DESCRIPTION:The Saleabraton Continues!\n****Sign Up and Payment Due Februar
 y 25 by 7:00pm****\n Saleabration was just too short\, and there was so m
 uch going on in my life.  Everyone who attends will be entered into a dra
 wing to win the Punch Party stamp set and other prizes.  The class will b
 e $20 for the notecard holder and 6 cards. \nI will also offer this as a 
 Class to Go.  That option will be $15 for the class plus $8 shipping.  I
 f you choose this option\, you will receive 6 notecards and envelopes\, 6 
 6x6 pieces of DSP\, Basic White for stamping\, ribbon\, and the holder tem
 plate scored.  You will be responsible for cutting\, punching\, and stamp
 ing the cards. You will need your own stamp set and ink pad of your choice
 .\nDeadline to sign up is Thursday February 25.  I plan to use the same D
 SP used here\, but it is only while supplies last\, so I can't guarantee i
 t.\n\nEvent link: https://stampinup.net/crm/events/92338
LAST-MODIFIED:20210222T215834
LOCATION:My Home or Class to Go
ORGANIZER;CN=Nina McMillan:mailto:ninassouthernaccents@gmail.com
SUMMARY:The Saleabration Continues
URL;VALUE=URI:https://stampinup.net/crm/events/92338
END:VEVENT
END:VCALENDAR
