BEGIN:VCALENDAR
VERSION:2.0
PRODID:icalendar-ruby
CALSCALE:GREGORIAN
METHOD:PUBLISH
BEGIN:VEVENT
DTSTAMP:20260424T075236Z
UID:event-9189@stampinup.net
DTSTART;TZID=America/New_York:20191020T130000
DTEND;TZID=America/New_York:20191020T150000
CREATED:20190916T145244
DESCRIPTION:What's better than Bingo and stamping?! We will play 6 games of
  Bingo and stamp three different cards using a variety of product from the
  new Holiday Catalog. Cost is $25 per person and MUST be paid by cash or c
 heck by Monday\, September 30th.  FREE product prizes for each game winne
 r! Seats are limited to 14 people and will be filled first come\, first se
 rve based on payment. This event will fill up fast so don't delay!\n\nEven
 t link: https://stampinup.net/crm/events/9189
LAST-MODIFIED:20190916T145244
LOCATION:North Haven\, CT
ORGANIZER;CN=Holly Obier:mailto:HAVEFUNSTAMPING@COMCAST.NET
SUMMARY:Holiday Catalog Stamping Bingo
URL;VALUE=URI:https://stampinup.net/crm/events/9189
END:VEVENT
END:VCALENDAR
