BEGIN:VCALENDAR
VERSION:2.0
PRODID:icalendar-ruby
CALSCALE:GREGORIAN
METHOD:PUBLISH
BEGIN:VEVENT
DTSTAMP:20260424T125047Z
UID:event-91693@stampinup.net
DTSTART;TZID=America/New_York:20210228T150000
DTEND;TZID=America/New_York:20210228T170000
CREATED:20210217T220003
DESCRIPTION:The February 28\, 2021 Class will feature the beautiful and col
 orful "You Are Amazing Project Kit" - Item #155370.  This kit offers an O
 PTIONAL add-on coordinating stamp set\, "You Are Amazing - Item # 154534. 
  \n\nClick here to visit the shopping page to place your kit order: You 
 Are Amazing Product Kit\nClick to order coordinating stamp set-- Optional 
 but highly recommended: You Are Amazing Stamp Set \n\nBe sure this host c
 ode displays in your shopping cart when checking out.  SMNHXC3P\n\nSPECIA
 L OFFER ENDS FEB 28TH:  Orders of $50 or more placed ON OR BEFORE FEBRUAR
 Y 28 will qualify to receive a free Stamp Set or Designer Series Paper fro
 m our Sale-A-Bration catalog!\n\nKit includes:\n* 16 printed card bases: 4
  designs\, 4 of each design\n* 16 printed envelopes: 2 designs\, 8 of each
  design\n* Printed and vellum die cuts\n* Die cuts with foil accents\n* Gr
 anny Apple Green/white Baker's Twine: 10 yards (9.1 m)\n* Printed decorati
 ve box\n\nProduct colours: Bermuda Bay\, Bermuda Bay foil\, Flirty Flaming
 o\, gold foil\, Granny Apple Green\, Mango Melody\, Pretty Peacock\, white
 \n\nAdditional suggested products needed (sold separately): You Are Amazin
 g Stamp Set\; Flirty Flamingo\, Granny Apple Green\, Mango Melody\, and Pr
 etty Peacock Classic Stampin Pads\; Stampin’ SEAL Adhesive\; Stampin’ 
 Dimensionals\; Mini Glue Dots - You might also like our coordinagting card
 stock in the colours mentioned above.\n\nThis class is a great way to lear
 n to "think outside the box" by using our beautiful line of kits to make a
  variety of cards.  During the class we will make the suggested cards acc
 ording to kit directions.  But then\, I'll demonstrate one ALTERNATIVE pr
 oject that you can make with me\, or make it later by watching the recorde
 d Zoom video afterward.\n\n Each month a lucky club member will win the h
 ost rewards and gifts that are generated for that month's club! This club 
 is a fun way to get inspired and learn ways to use your stash to create un
 ique projects and think "OUTSIDE THE BOX!"  Average kit price is $35 but 
 may vary depending on the kit contents and accessories.  Kits must be ord
 ered ahead of class date to ensure kit is received prior to class so that 
 you clan participate.  \n\nThis is a club format and therefore requires a
  comittment to stay in the club until each member has had a chance to win 
 the host rewards.  Be sure to ask me for the special host code I give onl
 y to club members each month and a private ZOOM link. You can join and bec
 ome a member any time.  Just contact me for details. BONUS! BRING A FRIEN
 D AND YOU BOTH RECEIVE A SPECIAL GIFT!!\n\nEvent link: https://stampinup.n
 et/crm/events/91693
LAST-MODIFIED:20210227T154427
LOCATION:ZOOM - PLEASE BE SURE YOU ASK FOR THE LINK\, ASK ME FOR HOST CODE 
 AND ZOOM LINK
ORGANIZER;CN=Margo Morgan Hope:mailto:stampsbymargo@gmail.com
SUMMARY:Outside The Box Kit Club - NOW ACCEPTING NEW MEMBERS - JOIN TODAY
URL;VALUE=URI:https://stampinup.net/crm/events/91693
END:VEVENT
END:VCALENDAR
