BEGIN:VCALENDAR
VERSION:2.0
PRODID:icalendar-ruby
CALSCALE:GREGORIAN
METHOD:PUBLISH
BEGIN:VEVENT
DTSTAMP:20260425T004358Z
UID:event-91599@stampinup.net
DTSTART;VALUE=DATE:20210224
DTEND;VALUE=DATE:20210226
CREATED:20210217T084054
DESCRIPTION:Party from home as we learn simple stamping techniques with pro
 ducts you can earn FREE during Stampin' Up! Sale-a-Bration through Februar
 y. We'll be packing 3 days full of paper crafting fun on the Facebook grou
 p: https://www.facebook.com/groups/simplysu\n\nEvent link: https://stampi
 nup.net/crm/events/91599
LAST-MODIFIED:20210217T084054
LOCATION:Facebook\, https://www.facebook.com/groups/simplysu
ORGANIZER;CN=Loni Spendlove:mailto:lonispendlove@gmail.com
SUMMARY:Simply SU! Sale-a-Bration  Virtual Party
URL;VALUE=URI:https://stampinup.net/crm/events/91599
END:VEVENT
END:VCALENDAR
