BEGIN:VCALENDAR
VERSION:2.0
PRODID:icalendar-ruby
CALSCALE:GREGORIAN
METHOD:PUBLISH
BEGIN:VEVENT
DTSTAMP:20260422T170636Z
UID:event-91361@stampinup.net
DTSTART;TZID=America/Los_Angeles:20210327T090000
DTEND;TZID=America/Los_Angeles:20210327T160000
CREATED:20210216T071306
DESCRIPTION:Who doesn’t LOVE butterflies? Join me and some incredibly tal
 ented friends on the evening of Friday March 26th (6pm – 7pm PST) for a 
 pre-party Mystery Stamping night and ALL day Saturday March 27th (8:45 am 
 – 3:30 pm PST) for a fabulous Butterfly Bouquet stamp camp! It will be a
  wonderful day crafting together from anywhere in Canada!\n\n PLEASE READ
  THE FOLLOWING DETAILS CAREFULLY! \n\nWhat will you get in this Stamp camp
 ?? \n\nYour FULL Butterfly Bouquet Stamp Camp includes: \n\n\n	The Butterf
 ly Brilliance Stamp Set and Brilliant Wings Dies as well as the coordinati
 ng Butterfly Bijou 6X6 Designer Series Paper\, and the Natural Touch Speci
 alty Paper (The whole Butterfly Brilliance Collection!)\n	Access to an exc
 lusive FB group where the LIVE presentations will be held Friday night and
  all day Saturday\n	Make-n-takes for all 8 projects and an awesome PDF for
  you to follow along while creating! \n\n\n*Card stock\, ribbon and embell
 ishments will be prepped and ready for you with any of the die-cutting don
 e that is not using your bundle. You will provide the ink\, adhesive\, and
  die-cutting of any parts that came in the bundle although the card stock 
 will be supplied.*\n\n I hope you join in the fun with us! This is a beau
 tiful\, well-coordinated bundle and the DSP and Specialty Papers are exclu
 sive to this pre-order (the DSP and Specialty Paper will not be available 
 in the new Annual Catalogue – even though the Stamp and Dies Bundle will
  be)\n\nRegistration ENDS March 6th (we need to order early to ensure your
  product arrives to you before the event) and make-n-take kits are estimat
 ed to ship by March 18th. \n\nHow do you register for the event? \n\nThere
  are two ways to register: \n\n1. Simply head to my store at http://www.st
 ampinup.ca/products/butterfly-brilliance-collection?hostcode=NP2DWBBP to p
 urchase the Butterfly Brilliance Collection#1549408 using Host Code: NP2DW
 BBP  (or an equivalent amount of product ($97.00) if you’ve already got
  the bundle)and you’ll automatically be registered! If you’ve got othe
 r items you were wanting to order you can simply throw them on your Stamp 
 Camp order and save on some shipping! By purchasing on this stamp camp hos
 t code you'll automatically be registered for the event. \n\n2. Do you alr
 eady own the bundle? Don't worry\, there's an option for you too! \n\n*PDF
 / Make N Take only option available ($50.00 for all 8 projects\, PDF\, ½ 
 package of Butterfly Bijou DSP\, package of Natural Touch Specialty Paper 
 (will be cut to 6X6 if it needs to be shipped)\, a roll of White Crinkled 
 Seam Binding\, and a package of Artistry Blooms Sequins) \n\n*Card stock\,
  will be prepped and ready for you with any of the die-cutting done that i
 s not using your bundle. You will provide the ink\, adhesive\, ribbon (fro
 m your kit)\, embellisments (from your kit) and die-cutting of any parts t
 hat came in the bundle although the card stock will be supplied.*\n\n \n\
 nFor those of you who are uncomfortable with online ordering or wanting to
  purchase the PDF/ Make-n-take option you can complete your registration b
 y emailing me directly and sending an etransfer to: leahdixon41@gmail.com\
 n\n\nEvent link: https://stampinup.net/crm/events/91361
LAST-MODIFIED:20210303T191415
LOCATION:Private FB Group\, From the Comfort of Your Home
ORGANIZER;CN=Leah Dixon:mailto:leahdixon41@gmail.com
SUMMARY:Butterfly Bouquet Stamp Camp
URL;VALUE=URI:https://stampinup.net/crm/events/91361
END:VEVENT
END:VCALENDAR
