BEGIN:VCALENDAR
VERSION:2.0
PRODID:icalendar-ruby
CALSCALE:GREGORIAN
METHOD:PUBLISH
BEGIN:VEVENT
DTSTAMP:20260423T043321Z
UID:event-91283@stampinup.net
DTSTART;VALUE=DATE:20210215
DTEND;VALUE=DATE:20210314
CREATED:20210215T143833
DESCRIPTION:Do you love to craft and are you looking for a kit that ships d
 irectly to you each month with special perks each month? Then you will LOV
 E “YOUR CREATIVITY AWAITS”!  \n\n \n\nWith “Your Creativity Await
 s”\, each month you will receive an exclusive make and take kit (2 cards
  of 4 designs) plus a PDF Tutorial.  All for only $57 per month shipped
  directly to you or $53 local pick up.\n\n \n\nEach month\, the Design T
 eam will choose one stamp set or bundle and design fun projects for you t
 o create.  The stampset is included in your kit. If you don't already own
  the dies or punch\, you may add it to your kit or use what you have. \n\
 n \n\nAs a member of Your Creativity Awaits\, each month you'll enjoy the
  following:\n• Featured stamp set\n\n• 8 Cards (2 each of 4 different 
 designs) - designed by Your Creativity Awaits Team\n\n• Exclusive Projec
 t tutorials you can follow along with to create your cards\n\n• Extra pr
 oduct (value will depend on the price of the stamp set)\n\n \n\nAfter 6 c
 onsecutive months of membership\, you will receive a thank you of $25 prod
 uct credit (before shipping and taxes) to spend on whatever you choose!\n\
 n \n\nYour Creativity Awaits Kit Timelines\n\n\n\n	The upcoming kit infor
 mation including supplies needed will be announced by the 15th of the prev
 ious month\n	Sign up must be done by the 2nd Sunday of the month\n	Kits wi
 ll be shipped and tutorials emailed out by the 4th Tuesday of the month (s
 ubject to unforeseen delays in the shipment of product from Stampin’ Up!
 )\n\n\n\nCost\n\nShipped: $57 monthly\n\nPorch Pick-up: $53 monthly\n\n 
 \n\nAvailable to Canadian Residents Only\n\nMarch Kit will feature the Arr
 ange a Wreath Stampset\n\nAdd-on:  Add the Wreath Dies to your kit for $5
 4.50 more!\n\n\nEvent link: https://stampinup.net/crm/events/91283
LAST-MODIFIED:20210215T143833
ORGANIZER;CN=Melva Peters:mailto:stampinwithmelva@gmail.com
SUMMARY:Your Creativity Awaits March 2021
URL;VALUE=URI:https://stampinup.net/crm/events/91283
RRULE:FREQ=DAILY;UNTIL=20210315T065900Z
END:VEVENT
END:VCALENDAR
