BEGIN:VCALENDAR
VERSION:2.0
PRODID:icalendar-ruby
CALSCALE:GREGORIAN
METHOD:PUBLISH
BEGIN:VEVENT
DTSTAMP:20260424T155258Z
UID:event-90172@stampinup.net
DTSTART;TZID=America/New_York:20210416T190000
DTEND;TZID=America/New_York:20210416T210000
CREATED:20210205T233500
DESCRIPTION:This product medley is adorable\, and if you love cacti\, you w
 on't want to miss it!  And the colors are gorgeous together.  \n\nWe wil
 l make 5 adorable projects using the products included in the Product Medl
 ey.  You will get 5 project kits\, 24 sheets of designer paper\, 5 yards 
 of Calypso Coral twine\, 5 yards of linen trim\, and 4 sheets of felt flow
 ers.  Ink and stamps will be provided.  \n\nTo make it even better\, I w
 ill be giving away Flowering Cactus stamp/die bundles\, a $34 value!  The
  more people in attendance\, the more bundles I give away!  Grab a friend
 \, and join the fun!\n\n\nRSVP: by Monday\, April 12th (space is limited!)
 \nSupplies:  basic tools including paper trimmer\, paper snips\, and adhe
 sive\nFee:  $38\, includes 24 sheets designer paper\, 5 yds each of 2 tri
 ms\, 4 sheets felt flowers\, 5 project kits\, plus chance(s) to win bundle
 (s)!\n\nEvent link: https://stampinup.net/crm/events/90172
LAST-MODIFIED:20210409T090932
LOCATION:Monclova Community Center\, 8115 Monclova Rd\, Monclova\, OH 43542
ORGANIZER;CN=Melanie Hockin:mailto:melsinkyfingers@gmail.com
SUMMARY:Flowering Cactus Project Class
URL;VALUE=URI:https://stampinup.net/crm/events/90172
END:VEVENT
END:VCALENDAR
