BEGIN:VCALENDAR
VERSION:2.0
PRODID:icalendar-ruby
CALSCALE:GREGORIAN
METHOD:PUBLISH
BEGIN:VEVENT
DTSTAMP:20260421T021316Z
UID:event-89432@stampinup.net
DTSTART;VALUE=DATE:20210201
DTEND;VALUE=DATE:20210201
CREATED:20210201T172924
DESCRIPTION:Cindy's Frequent Buyer Program Starts today (2/1/21) - ask me f
 or details!\n\nEvent link: https://stampinup.net/crm/events/89432
LAST-MODIFIED:20210201T172924
ORGANIZER;CN=Cindy Kemna:mailto:cindykemna@gmail.com
SUMMARY:Cindy's Frequent Buyer Program Starts
URL;VALUE=URI:https://stampinup.net/crm/events/89432
END:VEVENT
END:VCALENDAR
