BEGIN:VCALENDAR
VERSION:2.0
PRODID:icalendar-ruby
CALSCALE:GREGORIAN
METHOD:PUBLISH
BEGIN:VEVENT
DTSTAMP:20260424T223122Z
UID:event-89421@stampinup.net
DTSTART;TZID=America/Chicago:20210228T060000
DTEND;TZID=America/Chicago:20210228T230000
CREATED:20210201T162313
DESCRIPTION:Winter Sale-A-Bration ends but will happen again in July-Aug.!
   \n\nEvent link: https://stampinup.net/crm/events/89421
LAST-MODIFIED:20210201T162313
ORGANIZER;CN=Cindy Kemna:mailto:cindykemna@gmail.com
SUMMARY:Sale-A-Bration Jan.-Feb. Ends
URL;VALUE=URI:https://stampinup.net/crm/events/89421
END:VEVENT
END:VCALENDAR
