BEGIN:VCALENDAR
VERSION:2.0
PRODID:icalendar-ruby
CALSCALE:GREGORIAN
METHOD:PUBLISH
BEGIN:VEVENT
DTSTAMP:20260420T032929Z
UID:event-89031@stampinup.net
DTSTART;VALUE=DATE:20210417
DTEND;VALUE=DATE:20210417
CREATED:20210130T125133
DESCRIPTION:Can't wait to share the day at this Stampin' Up! company event 
 with some of my favorite Stampin' Up! peeps!\n\nEvent link: https://stampi
 nup.net/crm/events/89031
LAST-MODIFIED:20210130T125133
ORGANIZER;CN=Melanie Hockin:mailto:melsinkyfingers@gmail.com
SUMMARY:Stampin' Up! On Tour
URL;VALUE=URI:https://stampinup.net/crm/events/89031
END:VEVENT
END:VCALENDAR
