BEGIN:VCALENDAR
VERSION:2.0
PRODID:icalendar-ruby
CALSCALE:GREGORIAN
METHOD:PUBLISH
BEGIN:VEVENT
DTSTAMP:20260420T161715Z
UID:event-8813@stampinup.net
DTSTART;TZID=America/New_York:20190925T190000
DTEND;TZID=America/New_York:20190925T203000
CREATED:20190916T090000
DESCRIPTION:Wednesday Sept. 25th 7pm Sweet and Simple Card Class: Come enj
 oy this relaxing class where you will make 4 cards. Usually on the last We
 dnesday of each month.   New and experienced stampers welcome to enjoy t
 his night out. Supplies included and everyone goes home with 4 handmade ca
 rds.  Cost: $20 or FREE with an order (min.$25) .  . Make a bonus card w
 hen you bring a new friend!  \n\n\nEvent link: https://stampinup.net/crm/
 events/8813
LAST-MODIFIED:20190916T090000
LOCATION:Markham Baptist Church\, 110 Church Street
ORGANIZER;CN=Genevieve Ko:mailto:genstampin4fun@gmail.com
SUMMARY:Sweet and Simple Card Class
URL;VALUE=URI:https://stampinup.net/crm/events/8813
END:VEVENT
END:VCALENDAR
