BEGIN:VCALENDAR
VERSION:2.0
PRODID:icalendar-ruby
CALSCALE:GREGORIAN
METHOD:PUBLISH
BEGIN:VEVENT
DTSTAMP:20260423T005856Z
UID:event-87943@stampinup.net
DTSTART;VALUE=DATE:20220316
DTEND;VALUE=DATE:20220401
CREATED:20210122T125311
DESCRIPTION:Join us at the FUN TO GO Class! Complete PDF Tutorial and cards
 tock\, DSP\, etc.\, included to make 8 cards (4 designs\, 2 of each design
 ). You provide your stamps\, inks\, and adhesives to craft at your own pac
 e in the comfort of your Craft Room! You can purchase this class for $25 O
 R it is FREE with your $35 or more qualifying online order placed between 
 16th - end of the month (must use Host Code on orders under $150). Card ki
 ts will be shipped to your order address on or about the 10th of the next 
 month (ften days after deadline). Not valid with other offers (no double d
 ipping).\n\nEvent link: https://stampinup.net/crm/events/87943
LAST-MODIFIED:20220203T081757
LOCATION:Your Craft Room\, Your Craft Room
ORGANIZER;CN=Dawn Stock:mailto:StampingWithDawn@hotmail.com
SUMMARY:TO GO All Occasions Card Class
URL;VALUE=URI:https://stampinup.net/crm/events/87943
END:VEVENT
END:VCALENDAR
