BEGIN:VCALENDAR
VERSION:2.0
PRODID:icalendar-ruby
CALSCALE:GREGORIAN
METHOD:PUBLISH
BEGIN:VEVENT
DTSTAMP:20260425T115539Z
UID:event-87729@stampinup.net
DTSTART;TZID=America/New_York:20210201T200000
DTEND;TZID=America/New_York:20210201T210000
CREATED:20210121T111208
DESCRIPTION:Join us for Stampin Up updates\, idea sharing\, do a fun craft 
 project\, have some business talk\, and just have fun getting to know othe
 rs on our team! Learn about joining my team here. https://www.scrappingst
 ampingandstuff.com/join-my-team/\n\nEvent link: https://stampinup.net/crm/
 events/87729
LAST-MODIFIED:20250215T004415
LOCATION:Your couch or craft area! 
ORGANIZER;CN=Anna Helman:mailto:anna@handmakewithlove.com
SUMMARY:Monthly Team Meeting and PJ Party via Zoom
URL;VALUE=URI:https://stampinup.net/crm/events/87729
RRULE:FREQ=MONTHLY;BYDAY=1MO
END:VEVENT
END:VCALENDAR
