BEGIN:VCALENDAR
VERSION:2.0
PRODID:icalendar-ruby
CALSCALE:GREGORIAN
METHOD:PUBLISH
BEGIN:VEVENT
DTSTAMP:20260423T191520Z
UID:event-87055@stampinup.net
DTSTART;TZID=America/Los_Angeles:20210227T120000
DTEND;TZID=America/Los_Angeles:20210227T150000
CREATED:20210117T172648
DESCRIPTION:Follow your Art Class\n\nEvent link: https://stampinup.net/crm/
 events/87055
LAST-MODIFIED:20210117T172648
LOCATION:Gail's House
ORGANIZER;CN=April Lindow:mailto:aprillindow@gmail.com
SUMMARY:Private Class-Follow your Art
URL;VALUE=URI:https://stampinup.net/crm/events/87055
END:VEVENT
END:VCALENDAR
