BEGIN:VCALENDAR
VERSION:2.0
PRODID:icalendar-ruby
CALSCALE:GREGORIAN
METHOD:PUBLISH
BEGIN:VEVENT
DTSTAMP:20260420T045727Z
UID:event-87052@stampinup.net
DTSTART;TZID=America/Los_Angeles:20210124T140000
DTEND;TZID=America/Los_Angeles:20210124T163000
CREATED:20210117T172001
DESCRIPTION:We will make 4 cards and a box using the Snailed It bundle.\n\n
 Event link: https://stampinup.net/crm/events/87052
LAST-MODIFIED:20210117T172001
LOCATION:April's House\, 4920 211th ST SE
ORGANIZER;CN=April Lindow:mailto:aprillindow@gmail.com
SUMMARY:Snailed It Class
URL;VALUE=URI:https://stampinup.net/crm/events/87052
END:VEVENT
END:VCALENDAR
