BEGIN:VCALENDAR
VERSION:2.0
PRODID:icalendar-ruby
CALSCALE:GREGORIAN
METHOD:PUBLISH
BEGIN:VEVENT
DTSTAMP:20260419T194203Z
UID:event-8679@stampinup.net
DTSTART;TZID=America/New_York:20191018T100000
DTEND;TZID=America/New_York:20191020T160000
CREATED:20190916T054647
DESCRIPTION:\nA weekend just for you to enjoy creativity\, fellowship and T
 ONS of FUN! Get away with some of your Besties and enjoy creativity\, fell
 owship and TONS of FUN! Bring your own projects to work on and/or take adv
 antage of optional fall and holiday-themed classes offered throughout the 
 weekend. This is a great time to get your holiday craft projects finished 
 before the craziness of the Christmas season starts.  Each guest will hav
 e a full 8-foot table workspace of their own. A huge selection of tools (B
 ig Shots\, dies\, embossing folders\, punches\, stamps\, ink etc) will be 
 available to use all weekend long. I'm basically bringing my entire studio
  just for you to use! I will also have a selection of adhesives and other 
 consumables available to purchase on-site. Click HERE to learn more.\n\n\n
 Event link: https://stampinup.net/crm/events/8679
LAST-MODIFIED:20190916T054647
LOCATION:Niagara Falls\, ON
ORGANIZER;CN=Leena Girsa:mailto:lgirsa@gmail.com
SUMMARY:Autumn Adventure Retreat
URL;VALUE=URI:https://stampinup.net/crm/events/8679
END:VEVENT
END:VCALENDAR
