BEGIN:VCALENDAR
VERSION:2.0
PRODID:icalendar-ruby
CALSCALE:GREGORIAN
METHOD:PUBLISH
BEGIN:VEVENT
DTSTAMP:20260423T061621Z
UID:event-86037@stampinup.net
DTSTART;TZID=America/Phoenix:20220808T170000
DTEND;TZID=America/Phoenix:20220808T180000
CREATED:20210110T201632
DESCRIPTION:Join me for live step by step crafting! Each week I will create
  two projects with new products and learn new techniques along the way.  
 Share my video to be entered into the weekly Prize Patrol drawing!  \n\n
 Videos can be found on my Facebook page: https://www.facebook.com/Stampinb
 londie\n\nEvent link: https://stampinup.net/crm/events/86037
LAST-MODIFIED:20210110T201632
ORGANIZER;CN=Anastasia Radloff:mailto:isuanastasia@gmail.com
SUMMARY:Makers Monday Facebook Live Crafting
URL;VALUE=URI:https://stampinup.net/crm/events/86037
END:VEVENT
END:VCALENDAR
