BEGIN:VCALENDAR
VERSION:2.0
PRODID:icalendar-ruby
CALSCALE:GREGORIAN
METHOD:PUBLISH
BEGIN:VEVENT
DTSTAMP:20260421T111338Z
UID:event-85678@stampinup.net
DTSTART;TZID=America/Chicago:20210126T190000
DTEND;TZID=America/Chicago:20210126T203000
CREATED:20210108T233803
DESCRIPTION:Blooming Lovely Card Class\n\n*Saturday\, January 23\, 2021 11-
 12:30 pm CST\n\n*Tuesday\, January 26\, 2021 7-8:30 pm CST\n\nFREE\nSKILL 
 LEVEL - All\n\nProject will be emailed to you on January 20\, 2021 with yo
 ur Zoom invitation\n\n \n\nFollow along as we make 3 cards using the Pape
 r Blooms DSP patterned paper from the Sale-A-Bration Brochure. The paper f
 eatured in this class is available FREE with a $50 purchase until February
  28\, 2021. \n\n \n\nInstructions will be mailed to you on January 20\, 
 2021 along with your Zoom invite. Instructions will include supplies and c
 utting details. Follow along with your own projects or make your projects 
 after class. Don’t worry if your supplies do not match mine. You will be
  able to substitute your own supplies. \n\n \n\nClass is open to anyone\
 , including Demonstrators of Stampin’ Up!\n\n \n\nYou can register for 
 class until the day before class. \n\n \n\nClass uses Paper Blooms DSP 1
 55222 $FREE with $50 order at \n\nhttps://www.stampinup.com/ecweb/default
 .aspx?dbwsdemoid=0111042\n\n \n\n\n	\n		\n			\n			 \n\n			SKILL LEVEL\n\
 n			 \n			\n		\n		\n			\n			I\n			\n			\n			Beginner/Easy\n			\n			\n			T
 his crafter has the basic stamps\, inks and paper and crafts occasionally\
 n			\n		\n		\n			\n			II\n			\n			\n			Casual\n			\n			\n			This crafter l
 ikely crafts several times a month and has additional supplies like punche
 s\, accessories\, and ribbons \n			\n		\n		\n			\n			III\n			\n			\n			Av
 id\n			\n			\n			This crafter has it all or wants it all and crafts freque
 ntly and likely owns a die cutting machine\, dies\, embossing folders and 
 may be a Demonstrator (or maybe should be a Demonstrator). This crafter li
 kely has been crafting for years.\n			\n		\n		\n			\n			All\n			\n			\n			
 All\n			\n			\n			All skill levels are welcome and projects can be adjuste
 d to your skill level or supplies owned.\n			\n		\n	\n\n\n \n\n\nEvent li
 nk: https://stampinup.net/crm/events/85678
LAST-MODIFIED:20210109T150447
LOCATION:Online
ORGANIZER;CN=Sandy McManus:mailto:needsaribbon@gmail.com
SUMMARY:Blooming Lovely Card Class
URL;VALUE=URI:https://stampinup.net/crm/events/85678
END:VEVENT
END:VCALENDAR
