BEGIN:VCALENDAR
VERSION:2.0
PRODID:icalendar-ruby
CALSCALE:GREGORIAN
METHOD:PUBLISH
BEGIN:VEVENT
DTSTAMP:20260424T044021Z
UID:event-8539@stampinup.net
DTSTART;VALUE=DATE:20190930
DTEND;VALUE=DATE:20190930
CREATED:20190915T214557
DESCRIPTION:HOSTE CODE:  S2XNTXD4  Please apply host code at check out on
  orders less than $150.  Thank you!\n\nEvent link: https://stampinup.net/
 crm/events/8539
LAST-MODIFIED:20190915T215022
LOCATION:in my Online Store
ORGANIZER;CN=Donna Wicks:mailto:seadookid@gmail.com
SUMMARY:September Host Code
URL;VALUE=URI:https://stampinup.net/crm/events/8539
END:VEVENT
END:VCALENDAR
