BEGIN:VCALENDAR
VERSION:2.0
PRODID:icalendar-ruby
CALSCALE:GREGORIAN
METHOD:PUBLISH
BEGIN:VEVENT
DTSTAMP:20260421T120838Z
UID:event-83476@stampinup.net
DTSTART;TZID=America/New_York:20210524T033000
DTEND;TZID=America/New_York:20210524T200000
CREATED:20201231T091351
DESCRIPTION:\n\nEvent link: https://stampinup.net/crm/events/83476
LAST-MODIFIED:20210101T105456
ORGANIZER;CN=Kim Vogel:mailto:kim@kimsbasementbunch.com
SUMMARY:Card and Scrapbook Club
URL;VALUE=URI:https://stampinup.net/crm/events/83476
END:VEVENT
END:VCALENDAR
