BEGIN:VCALENDAR
VERSION:2.0
PRODID:icalendar-ruby
CALSCALE:GREGORIAN
METHOD:PUBLISH
BEGIN:VEVENT
DTSTAMP:20260422T100034Z
UID:event-83475@stampinup.net
DTSTART;TZID=America/New_York:20210215T070000
DTEND;TZID=America/New_York:20210215T080000
CREATED:20201231T091308
DESCRIPTION:\n\nEvent link: https://stampinup.net/crm/events/83475
LAST-MODIFIED:20210101T105429
LOCATION:My House\, 5783 E Beal City Rd Mt Pleasant\, MI
ORGANIZER;CN=Kim Vogel:mailto:kim@kimsbasementbunch.com
SUMMARY:Card and Scrapbook Club
URL;VALUE=URI:https://stampinup.net/crm/events/83475
END:VEVENT
END:VCALENDAR
