BEGIN:VCALENDAR
VERSION:2.0
PRODID:icalendar-ruby
CALSCALE:GREGORIAN
METHOD:PUBLISH
BEGIN:VEVENT
DTSTAMP:20260425T164759Z
UID:event-834@stampinup.net
DTSTART;TZID=America/Chicago:20190919T190000
DTEND;TZID=America/Chicago:20190919T210000
CREATED:20190911T072614
DESCRIPTION:Sharon hosts.\n\nEvent link: https://stampinup.net/crm/events/8
 34
LAST-MODIFIED:20190911T073146
LOCATION:Sharon's Stampin' Studio
ORGANIZER;CN=Sharon McCartney:mailto:yentraccm_sk@yahoo.com
SUMMARY:Thursday Too Stamp Club
URL;VALUE=URI:https://stampinup.net/crm/events/834
END:VEVENT
END:VCALENDAR
