BEGIN:VCALENDAR
VERSION:2.0
PRODID:icalendar-ruby
CALSCALE:GREGORIAN
METHOD:PUBLISH
BEGIN:VEVENT
DTSTAMP:20260423T142747Z
UID:event-82979@stampinup.net
DTSTART;VALUE=DATE:20210403
DTEND;VALUE=DATE:20210403
CREATED:20201229T075506
DESCRIPTION:Ask me for more details if you are interested in our Technique 
 Club.\n\nEvent link: https://stampinup.net/crm/events/82979
LAST-MODIFIED:20201229T075506
LOCATION:UCRBC\, Baldwin\, MD
ORGANIZER;CN=Becky Jensen:mailto:becky@stampthat.com
SUMMARY:Tech Club
URL;VALUE=URI:https://stampinup.net/crm/events/82979
END:VEVENT
END:VCALENDAR
