BEGIN:VCALENDAR
VERSION:2.0
PRODID:icalendar-ruby
CALSCALE:GREGORIAN
METHOD:PUBLISH
BEGIN:VEVENT
DTSTAMP:20260424T155258Z
UID:event-82964@stampinup.net
DTSTART;VALUE=DATE:20210513
DTEND;VALUE=DATE:20210513
CREATED:20201229T074921
DESCRIPTION:Dad needs something special for his special day!  Although thi
 s will be a great gift for dad\, it really is great for any guy.  Stay tu
 ned to my blog for more details on the gift.\n\n \n\nWhen:  Choose one o
 f the dates listed below to attend\n\n\n	Thursday\, May 13\, 1:00 OR 6:30 
 P.M.\n	Tuesday\, May 18\, 1:00 OR 6:30 P.M.\n	Thursday\, May 20\, 1:00 OR 
 6:30 P.M.\n\n\n \n\nWhere: StampThat\, New Freedom\, PA\n\nCost: non-refu
 ndable $30.00 \n\nRSVP:  with payment\, at least 2 days before you plan t
 o attend class\n\nWhat to bring: Stampin’ Seal and Tear &amp\; Tape\n\n\
 nEvent link: https://stampinup.net/crm/events/82964
LAST-MODIFIED:20201229T074921
LOCATION:StampThat Studio\, New Freedom\, PA
ORGANIZER;CN=Becky Jensen:mailto:becky@stampthat.com
SUMMARY:Father's Day Gift
URL;VALUE=URI:https://stampinup.net/crm/events/82964
END:VEVENT
END:VCALENDAR
