BEGIN:VCALENDAR
VERSION:2.0
PRODID:icalendar-ruby
CALSCALE:GREGORIAN
METHOD:PUBLISH
BEGIN:VEVENT
DTSTAMP:20260421T100028Z
UID:event-82961@stampinup.net
DTSTART;VALUE=DATE:20210511
DTEND;VALUE=DATE:20210511
CREATED:20201229T074813
DESCRIPTION:We will be creating exclusively with the A Cut Above stamp set.
   Those who choose\, may include the stamp set with the class for a reduc
 ed class price. You will make 5 cards in this class.   \n\nWhen:  Choos
 e one of the dates listed below to attend\n\n\n	Tuesday\, May 11\, 6:30 P.
 M.\n	Thursday\, May 13\, 1:00 OR 6:30 P.M.\n	Tuesday\, May 18\, 6:30 P.M.\
 n\n\nWhere:  StampThat Studio\, New Freedom\, PA\nCost:  Class your way
  – choose an option below\n\n\n	$33.00 Stamp set and class\n	$18.00 for 
 Class only\n	$8.30 Shipping if you would like to join the class long dista
 nce\n\nRSVP:  by April 27 so I can order stamps/dies and have them in tim
 e for class\nSupplies to bring:  Stampin’ Seal and Tear &amp\; Tape\n\
 nEvent link: https://stampinup.net/crm/events/82961
LAST-MODIFIED:20201229T074813
LOCATION:StampThat Studio\, New Freedom\, PA
ORGANIZER;CN=Becky Jensen:mailto:becky@stampthat.com
SUMMARY:May Stamp of the Month - A Cut Above
URL;VALUE=URI:https://stampinup.net/crm/events/82961
END:VEVENT
END:VCALENDAR
